BEGIN:VCALENDAR
VERSION:2.0
PRODID:-//ThreeSixty Journalism - ECPv6.15.20//NONSGML v1.0//EN
CALSCALE:GREGORIAN
METHOD:PUBLISH
X-WR-CALNAME:ThreeSixty Journalism
X-ORIGINAL-URL:https://threesixty.stthomas.edu
X-WR-CALDESC:Events for ThreeSixty Journalism
REFRESH-INTERVAL;VALUE=DURATION:PT1H
X-Robots-Tag:noindex
X-PUBLISHED-TTL:PT1H
BEGIN:VTIMEZONE
TZID:America/Chicago
BEGIN:DAYLIGHT
TZOFFSETFROM:-0600
TZOFFSETTO:-0500
TZNAME:CDT
DTSTART:20230312T080000
END:DAYLIGHT
BEGIN:STANDARD
TZOFFSETFROM:-0500
TZOFFSETTO:-0600
TZNAME:CST
DTSTART:20231105T070000
END:STANDARD
BEGIN:DAYLIGHT
TZOFFSETFROM:-0600
TZOFFSETTO:-0500
TZNAME:CDT
DTSTART:20240310T080000
END:DAYLIGHT
BEGIN:STANDARD
TZOFFSETFROM:-0500
TZOFFSETTO:-0600
TZNAME:CST
DTSTART:20241103T070000
END:STANDARD
BEGIN:DAYLIGHT
TZOFFSETFROM:-0600
TZOFFSETTO:-0500
TZNAME:CDT
DTSTART:20250309T080000
END:DAYLIGHT
BEGIN:STANDARD
TZOFFSETFROM:-0500
TZOFFSETTO:-0600
TZNAME:CST
DTSTART:20251102T070000
END:STANDARD
END:VTIMEZONE
BEGIN:VEVENT
DTSTART;TZID=America/Chicago:20240724T140000
DTEND;TZID=America/Chicago:20240724T150000
DTSTAMP:20260421T184413
CREATED:20240520T194441Z
LAST-MODIFIED:20241031T182958Z
UID:24224-1721829600-1721833200@threesixty.stthomas.edu
SUMMARY:ThreeSixty Journalism Student Summer Showcase 2024
DESCRIPTION:Save the date! Join ThreeSixty Journalism for the Student Summer Showcase\, featuring work produced at our inaugural Multimedia Storytelling Institute. \nWe cannot wait to celebrate our students with you! \nRegister here. Contact threesixty@stthomas.edu with questions. \n  \nSponsored by Blue Cross Blue Shield Minnesota
URL:https://threesixty.stthomas.edu/event/threesixty-journalism-student-summer-showcase-2024/
LOCATION:Schoenecker Center\, 2210 Summit Avenue\, Saint Paul\, Minnesota\, 55105
ORGANIZER;CN="ThreeSixty Journalism":MAILTO:threesixty@stthomas.edu
END:VEVENT
END:VCALENDAR